BEGIN:VCALENDAR
VERSION:2.0
PRODID:-//Reigning Liberty Ranch - ECPv6.15.20//NONSGML v1.0//EN
CALSCALE:GREGORIAN
METHOD:PUBLISH
X-ORIGINAL-URL:https://reininglibertyranch.org
X-WR-CALDESC:Events for Reigning Liberty Ranch
REFRESH-INTERVAL;VALUE=DURATION:PT1H
X-Robots-Tag:noindex
X-PUBLISHED-TTL:PT1H
BEGIN:VTIMEZONE
TZID:UTC
BEGIN:STANDARD
TZOFFSETFROM:+0000
TZOFFSETTO:+0000
TZNAME:UTC
DTSTART:20240101T000000
END:STANDARD
END:VTIMEZONE
BEGIN:VEVENT
DTSTART;TZID=UTC:20250627T090000
DTEND;TZID=UTC:20250627T170000
DTSTAMP:20260423T114130
CREATED:20251205T083325Z
LAST-MODIFIED:20251205T083325Z
UID:2249-1751014800-1751043600@reininglibertyranch.org
SUMMARY:Reining Liberty Ranch Veteran Benefit
DESCRIPTION:Join Reining Liberty Ranch on The Green for a day of fun\, camaraderie\, and golf while supporting vital programs for Veterans.\n\n \n\nIndividual Golfer Donation: $150\nFoursome Team Donation: $600\n\n \n\nSponsor a Hole: $200\nSponsorship is open to both businesses and individuals. We will provide a professional sign placed at a hole featuring your name or company logo.
URL:https://reininglibertyranch.org/event/reining-liberty-ranch-veteran-benefit/
LOCATION:Reining Liberty Ranch\, 4656 Silver Pines Rd\, Traverse City\, MI\, 49685\, United States
ATTACH;FMTTYPE=application/pdf:https://reininglibertyranch.org/wp-content/uploads/2025/12/RLR-2025-Handout.pdf
END:VEVENT
BEGIN:VEVENT
DTSTART;TZID=UTC:20250906T110000
DTEND;TZID=UTC:20250906T110000
DTSTAMP:20260423T114130
CREATED:20251205T084538Z
LAST-MODIFIED:20260227T154319Z
UID:2252-1757156400-1757156400@reininglibertyranch.org
SUMMARY:Some Gave All - Veterans Honor Ride
DESCRIPTION:Join us for a day of honor and celebration as we ride through Leelanua County\, enjoy some food and explore the Ranch with live music\, raffles and more.
URL:https://reininglibertyranch.org/event/some-gave-all-veterans-honor-ride/
LOCATION:Reining Liberty Ranch\, 4656 Silver Pines Rd\, Traverse City\, MI\, 49685\, United States
ATTACH;FMTTYPE=image/webp:https://reininglibertyranch.org/wp-content/uploads/2025/12/some-gave-all.webp
ORGANIZER;CN="Bob":MAILTO:NoMiBikers@gmail.com
END:VEVENT
BEGIN:VEVENT
DTSTART;TZID=UTC:20260412T160000
DTEND;TZID=UTC:20260412T180000
DTSTAMP:20260423T114130
CREATED:20251205T082729Z
LAST-MODIFIED:20260404T223053Z
UID:2246-1776009600-1776016800@reininglibertyranch.org
SUMMARY:Second Sunday Dinner
DESCRIPTION:This dinner is open to all Veterans\, Volunteers\, Friends of the ranch and their families too!  This meal is prepared by our own Veteran Chef and his Sous Chef. It  is simply awesome! \nCome enjoy the wonderful food\, walk around the grounds\, pause a minute to breathe by the Veteran’s garden pond or just visit all the animals.  Take advantage of this time to slow down a bit\, experience camaraderie or meet new friends. \nWe welcome you and yours to come experience Reining Liberty Ranch!
URL:https://reininglibertyranch.org/event/second-sunday-dinner/
LOCATION:Reining Liberty Ranch\, 4656 Silver Pines Rd\, Traverse City\, MI\, 49685\, United States
ATTACH;FMTTYPE=image/webp:https://reininglibertyranch.org/wp-content/uploads/2025/12/sunday-dinner.webp
ORGANIZER;CN="Becki Bigelow":MAILTO:becki4rlr@gmail.com
END:VEVENT
BEGIN:VEVENT
DTSTART;TZID=UTC:20260905T100000
DTEND;TZID=UTC:20260905T100000
DTSTAMP:20260423T114130
CREATED:20260306T180318Z
LAST-MODIFIED:20260306T180318Z
UID:3160-1788602400-1788602400@reininglibertyranch.org
SUMMARY:3rd Annual Some Gave All Veterans Honor Ride
DESCRIPTION:Join us for a day of honor and celebration as we ride through Leelanau County\, enjoy some food and explore the Ranch with live music\, raffles and more.
URL:https://reininglibertyranch.org/event/3rd-annual-some-gave-all-veterans-honor-ride/
ATTACH;FMTTYPE=image/jpeg:https://reininglibertyranch.org/wp-content/uploads/2026/03/2026-Some-Gave-All.jpg
END:VEVENT
END:VCALENDAR