BEGIN:VCALENDAR
VERSION:2.0
PRODID:-//Reigning Liberty Ranch - ECPv6.15.20//NONSGML v1.0//EN
CALSCALE:GREGORIAN
METHOD:PUBLISH
X-WR-CALNAME:Reigning Liberty Ranch
X-ORIGINAL-URL:https://reininglibertyranch.org
X-WR-CALDESC:Events for Reigning Liberty Ranch
REFRESH-INTERVAL;VALUE=DURATION:PT1H
X-Robots-Tag:noindex
X-PUBLISHED-TTL:PT1H
BEGIN:VTIMEZONE
TZID:UTC
BEGIN:STANDARD
TZOFFSETFROM:+0000
TZOFFSETTO:+0000
TZNAME:UTC
DTSTART:20240101T000000
END:STANDARD
END:VTIMEZONE
BEGIN:VEVENT
DTSTART;TZID=UTC:20250501T060000
DTEND;TZID=UTC:20250501T200000
DTSTAMP:20260423T134922
CREATED:20251205T081321Z
LAST-MODIFIED:20251205T081648Z
UID:2243-1746079200-1746129600@reininglibertyranch.org
SUMMARY:Weekly Dinner
DESCRIPTION:This meal is intended to hold space for our Veterans and Active Duty military.  This is a time for connection and camaraderie and for peer to peer interactions in a safe place.  See what’s for dinner on our facebook page every Thursday!
URL:https://reininglibertyranch.org/event/weekly-dinner/
LOCATION:Reining Liberty Ranch\, 4656 Silver Pines Rd\, Traverse City\, MI\, 49685\, United States
ATTACH;FMTTYPE=image/webp:https://reininglibertyranch.org/wp-content/uploads/2025/12/grilling-min-scaled-1.webp
ORGANIZER;CN="Becki Bigelow":MAILTO:becki4rlr@gmail.com
END:VEVENT
END:VCALENDAR